BEGIN:VCALENDAR
VERSION:2.0
PRODID:-//Abbotsford Karate Club - Sekukan - ECPv6.15.20//NONSGML v1.0//EN
CALSCALE:GREGORIAN
METHOD:PUBLISH
X-WR-CALNAME:Abbotsford Karate Club - Sekukan
X-ORIGINAL-URL:https://abbotsfordkarate.ca
X-WR-CALDESC:Events for Abbotsford Karate Club - Sekukan
REFRESH-INTERVAL;VALUE=DURATION:PT1H
X-Robots-Tag:noindex
X-PUBLISHED-TTL:PT1H
BEGIN:VTIMEZONE
TZID:America/Vancouver
BEGIN:DAYLIGHT
TZOFFSETFROM:-0800
TZOFFSETTO:-0700
TZNAME:PDT
DTSTART:20250309T100000
END:DAYLIGHT
BEGIN:STANDARD
TZOFFSETFROM:-0700
TZOFFSETTO:-0800
TZNAME:PST
DTSTART:20251102T090000
END:STANDARD
BEGIN:DAYLIGHT
TZOFFSETFROM:-0800
TZOFFSETTO:-0700
TZNAME:PDT
DTSTART:20260308T100000
END:DAYLIGHT
BEGIN:STANDARD
TZOFFSETFROM:-0700
TZOFFSETTO:-0800
TZNAME:PST
DTSTART:20261101T090000
END:STANDARD
BEGIN:DAYLIGHT
TZOFFSETFROM:-0800
TZOFFSETTO:-0700
TZNAME:PDT
DTSTART:20270314T100000
END:DAYLIGHT
BEGIN:STANDARD
TZOFFSETFROM:-0700
TZOFFSETTO:-0800
TZNAME:PST
DTSTART:20271107T090000
END:STANDARD
END:VTIMEZONE
BEGIN:VEVENT
DTSTART;TZID=America/Vancouver:20260226T180000
DTEND;TZID=America/Vancouver:20260226T210000
DTSTAMP:20260421T004240
CREATED:20251001T000610Z
LAST-MODIFIED:20251001T000610Z
UID:1108-1772128800-1772139600@abbotsfordkarate.ca
SUMMARY:Karate Class Cancelled - Parent - Teacher Conference
DESCRIPTION:Karate Class Cancelled – Parent – Teacher Conference
URL:https://abbotsfordkarate.ca/calendar/karate-class-cancelled-parent-teacher-conference/
LOCATION:Godson Elementary\, 33130 Bevan Ave\, Abbotsford\, BC\, V2S 1T6\, Canada
END:VEVENT
END:VCALENDAR