BEGIN:VCALENDAR
VERSION:2.0
PRODID:-//Abbotsford Karate Club - Sekukan - ECPv6.15.20//NONSGML v1.0//EN
CALSCALE:GREGORIAN
METHOD:PUBLISH
X-WR-CALNAME:Abbotsford Karate Club - Sekukan
X-ORIGINAL-URL:https://abbotsfordkarate.ca
X-WR-CALDESC:Events for Abbotsford Karate Club - Sekukan
REFRESH-INTERVAL;VALUE=DURATION:PT1H
X-Robots-Tag:noindex
X-PUBLISHED-TTL:PT1H
BEGIN:VTIMEZONE
TZID:America/Vancouver
BEGIN:DAYLIGHT
TZOFFSETFROM:-0800
TZOFFSETTO:-0700
TZNAME:PDT
DTSTART:20220313T100000
END:DAYLIGHT
BEGIN:STANDARD
TZOFFSETFROM:-0700
TZOFFSETTO:-0800
TZNAME:PST
DTSTART:20221106T090000
END:STANDARD
BEGIN:DAYLIGHT
TZOFFSETFROM:-0800
TZOFFSETTO:-0700
TZNAME:PDT
DTSTART:20230312T100000
END:DAYLIGHT
BEGIN:STANDARD
TZOFFSETFROM:-0700
TZOFFSETTO:-0800
TZNAME:PST
DTSTART:20231105T090000
END:STANDARD
BEGIN:DAYLIGHT
TZOFFSETFROM:-0800
TZOFFSETTO:-0700
TZNAME:PDT
DTSTART:20240310T100000
END:DAYLIGHT
BEGIN:STANDARD
TZOFFSETFROM:-0700
TZOFFSETTO:-0800
TZNAME:PST
DTSTART:20241103T090000
END:STANDARD
BEGIN:DAYLIGHT
TZOFFSETFROM:-0800
TZOFFSETTO:-0700
TZNAME:PDT
DTSTART:20250309T100000
END:DAYLIGHT
BEGIN:STANDARD
TZOFFSETFROM:-0700
TZOFFSETTO:-0800
TZNAME:PST
DTSTART:20251102T090000
END:STANDARD
END:VTIMEZONE
BEGIN:VEVENT
DTSTART;TZID=America/Vancouver:20241210T180000
DTEND;TZID=America/Vancouver:20241210T210000
DTSTAMP:20260421T133043
CREATED:20241001T195743Z
LAST-MODIFIED:20241001T195743Z
UID:1058-1733853600-1733864400@abbotsfordkarate.ca
SUMMARY:Class cancelled
DESCRIPTION:Karate class cancelled for school use.
URL:https://abbotsfordkarate.ca/calendar/class-cancelled-3/
LOCATION:Godson Elementary\, 33130 Bevan Ave\, Abbotsford\, BC\, V2S 1T6\, Canada
END:VEVENT
BEGIN:VEVENT
DTSTART;TZID=America/Vancouver:20241205T180000
DTEND;TZID=America/Vancouver:20241205T210000
DTSTAMP:20260421T133043
CREATED:20241001T194610Z
LAST-MODIFIED:20241001T194610Z
UID:1048-1733421600-1733432400@abbotsfordkarate.ca
SUMMARY:Last Class before Christmas
DESCRIPTION:Last class before Christmas break.
URL:https://abbotsfordkarate.ca/calendar/last-class-before-christmas/
LOCATION:BC
END:VEVENT
BEGIN:VEVENT
DTSTART;TZID=America/Vancouver:20241024T180000
DTEND;TZID=America/Vancouver:20241024T210000
DTSTAMP:20260421T133043
CREATED:20241001T194209Z
LAST-MODIFIED:20241001T194209Z
UID:1046-1729792800-1729803600@abbotsfordkarate.ca
SUMMARY:Cancellation
DESCRIPTION:Karate class cancelled due to a Parent – Teacher interview night.
URL:https://abbotsfordkarate.ca/calendar/cancellation-2/
LOCATION:BC
END:VEVENT
BEGIN:VEVENT
DTSTART;TZID=America/Vancouver:20241001T180000
DTEND;TZID=America/Vancouver:20241001T210000
DTSTAMP:20260421T133043
CREATED:20240918T173242Z
LAST-MODIFIED:20240918T173527Z
UID:1036-1727805600-1727816400@abbotsfordkarate.ca
SUMMARY:Karate Classes Start Tuesday October 1\, 2024
DESCRIPTION:Karate classes start Tuesday Oct 1\, 2024 at Godson Elementary School; 6-7 pm kobudo; 7-8 Kid’s Class; 7-9 Teen and Adult karate class. \nWe’re looking forward to seeing everyone again after a great Summer break. For those of you who took the summer off from your training\, it’s time to get back in shape and hone your karate skills. There’s lots of exciting upcoming events: \nKobudo seminars and grading with Tamayose Sensei from Okinawa: Sept 27-29- Courtney on Vancouver Island;  October 11-13 in Hope \n2024 Wild West Martial Arts Camp Nov 2/3 in Chilliwack at the Coast Chilliwack Hotel \nhttps://www.facebook.com/events/937923344797660/?paipv=0&eav=Afa2pyDFaZfxjOwK_vzWom8V_M7aQe-T-ydNE4cZHU3Yd0kFQo_q_oYPrPG6eizVjtM&_rdr \n  \nCanada Open Karate Championship 2024 \nhttps://cdn.sportdata.org/d75cace8-ebd5-489c-89a0-64a872a04cae/
URL:https://abbotsfordkarate.ca/calendar/karate-classes-start-tuesday-october-1-2024/
LOCATION:Godson Elementary\, 33130 Bevan Ave\, Abbotsford\, BC\, V2S 1T6\, Canada
END:VEVENT
BEGIN:VEVENT
DTSTART;VALUE=DATE:20240318
DTEND;VALUE=DATE:20240330
DTSTAMP:20260421T133043
CREATED:20240305T220527Z
LAST-MODIFIED:20240305T220527Z
UID:1017-1710720000-1711756799@abbotsfordkarate.ca
SUMMARY:Spring Break 2024
DESCRIPTION:Classes will be cancelled for Spring Break March 18-29.
URL:https://abbotsfordkarate.ca/calendar/spring-break-2024/
LOCATION:BC
END:VEVENT
BEGIN:VEVENT
DTSTART;TZID=America/Vancouver:20231019T180000
DTEND;TZID=America/Vancouver:20231019T210000
DTSTAMP:20260421T133043
CREATED:20231010T221101Z
LAST-MODIFIED:20231010T221101Z
UID:976-1697738400-1697749200@abbotsfordkarate.ca
SUMMARY:Class Cancelled for School event
DESCRIPTION:
URL:https://abbotsfordkarate.ca/calendar/class-cancelled-for-school-event/
LOCATION:Godson Elementary\, 33130 Bevan Ave\, Abbotsford\, BC\, V2S 1T6\, Canada
END:VEVENT
END:VCALENDAR