BEGIN:VCALENDAR
VERSION:2.0
PRODID:-//Abbotsford Karate Club - Sekukan - ECPv6.15.20//NONSGML v1.0//EN
CALSCALE:GREGORIAN
METHOD:PUBLISH
X-WR-CALNAME:Abbotsford Karate Club - Sekukan
X-ORIGINAL-URL:https://abbotsfordkarate.ca
X-WR-CALDESC:Events for Abbotsford Karate Club - Sekukan
REFRESH-INTERVAL;VALUE=DURATION:PT1H
X-Robots-Tag:noindex
X-PUBLISHED-TTL:PT1H
BEGIN:VTIMEZONE
TZID:America/Vancouver
BEGIN:DAYLIGHT
TZOFFSETFROM:-0800
TZOFFSETTO:-0700
TZNAME:PDT
DTSTART:20220313T100000
END:DAYLIGHT
BEGIN:STANDARD
TZOFFSETFROM:-0700
TZOFFSETTO:-0800
TZNAME:PST
DTSTART:20221106T090000
END:STANDARD
BEGIN:DAYLIGHT
TZOFFSETFROM:-0800
TZOFFSETTO:-0700
TZNAME:PDT
DTSTART:20230312T100000
END:DAYLIGHT
BEGIN:STANDARD
TZOFFSETFROM:-0700
TZOFFSETTO:-0800
TZNAME:PST
DTSTART:20231105T090000
END:STANDARD
BEGIN:DAYLIGHT
TZOFFSETFROM:-0800
TZOFFSETTO:-0700
TZNAME:PDT
DTSTART:20240310T100000
END:DAYLIGHT
BEGIN:STANDARD
TZOFFSETFROM:-0700
TZOFFSETTO:-0800
TZNAME:PST
DTSTART:20241103T090000
END:STANDARD
BEGIN:DAYLIGHT
TZOFFSETFROM:-0800
TZOFFSETTO:-0700
TZNAME:PDT
DTSTART:20250309T100000
END:DAYLIGHT
BEGIN:STANDARD
TZOFFSETFROM:-0700
TZOFFSETTO:-0800
TZNAME:PST
DTSTART:20251102T090000
END:STANDARD
BEGIN:DAYLIGHT
TZOFFSETFROM:-0800
TZOFFSETTO:-0700
TZNAME:PDT
DTSTART:20260308T100000
END:DAYLIGHT
BEGIN:STANDARD
TZOFFSETFROM:-0700
TZOFFSETTO:-0800
TZNAME:PST
DTSTART:20261101T090000
END:STANDARD
BEGIN:DAYLIGHT
TZOFFSETFROM:-0800
TZOFFSETTO:-0700
TZNAME:PDT
DTSTART:20270314T100000
END:DAYLIGHT
BEGIN:STANDARD
TZOFFSETFROM:-0700
TZOFFSETTO:-0800
TZNAME:PST
DTSTART:20271107T090000
END:STANDARD
END:VTIMEZONE
BEGIN:VEVENT
DTSTART;VALUE=DATE:20251209
DTEND;VALUE=DATE:20260102
DTSTAMP:20260421T170618
CREATED:20251001T001123Z
LAST-MODIFIED:20251001T001123Z
UID:1112-1765238400-1767311999@abbotsfordkarate.ca
SUMMARY:No Karate - Christmas Break
DESCRIPTION:No Karate – Christmas Break – Dec 9 – Jan 1 2026
URL:https://abbotsfordkarate.ca/calendar/no-karate-christmas-break/
LOCATION:Godson Elementary\, 33130 Bevan Ave\, Abbotsford\, BC\, V2S 1T6\, Canada
END:VEVENT
BEGIN:VEVENT
DTSTART;VALUE=DATE:20251123
DTEND;VALUE=DATE:20251124
DTSTAMP:20260421T170618
CREATED:20251001T002558Z
LAST-MODIFIED:20251001T002558Z
UID:1123-1763856000-1763942399@abbotsfordkarate.ca
SUMMARY:Canada Open at Richmond Oval
DESCRIPTION:Canada Open at Richmond Oval
URL:https://abbotsfordkarate.ca/calendar/canada-open-at-richmond-oval/
LOCATION:Richmond Olympic Oval\, Richmond\, BC\, Canada
END:VEVENT
BEGIN:VEVENT
DTSTART;VALUE=DATE:20251122
DTEND;VALUE=DATE:20251123
DTSTAMP:20260421T170618
CREATED:20251001T002408Z
LAST-MODIFIED:20251001T003524Z
UID:1121-1763769600-1763855999@abbotsfordkarate.ca
SUMMARY:BC Open at Richmond Oval
DESCRIPTION:BC Open at Richmond Oval
URL:https://abbotsfordkarate.ca/calendar/bc-open-at-richmond-oval/
LOCATION:Richmond Olympic Oval\, Richmond\, BC\, Canada
END:VEVENT
BEGIN:VEVENT
DTSTART;TZID=America/Vancouver:20251111T180000
DTEND;TZID=America/Vancouver:20251111T210000
DTSTAMP:20260421T170618
CREATED:20251001T000336Z
LAST-MODIFIED:20251001T000336Z
UID:1106-1762884000-1762894800@abbotsfordkarate.ca
SUMMARY:Karate Class Cancelled - Remembrance Day
DESCRIPTION:Karate Class Cancelled – Remembrance Day
URL:https://abbotsfordkarate.ca/calendar/karate-class-cancelled-remembrance-day/
END:VEVENT
BEGIN:VEVENT
DTSTART;VALUE=DATE:20251108
DTEND;VALUE=DATE:20251109
DTSTAMP:20260421T170618
CREATED:20251001T002157Z
LAST-MODIFIED:20251001T002157Z
UID:1118-1762560000-1762646399@abbotsfordkarate.ca
SUMMARY:Sato Cup at BCIT
DESCRIPTION:Sato Cup at BCIT\, Burnaby.
URL:https://abbotsfordkarate.ca/calendar/sato-cup-at-bcit/
LOCATION:BCIT\, Burnaby\, BC\, Canada
END:VEVENT
BEGIN:VEVENT
DTSTART;TZID=America/Vancouver:20251023T180000
DTEND;TZID=America/Vancouver:20251023T210000
DTSTAMP:20260421T170618
CREATED:20251001T000231Z
LAST-MODIFIED:20251001T000231Z
UID:1104-1761242400-1761253200@abbotsfordkarate.ca
SUMMARY:Karate Class Cancelled
DESCRIPTION:Karate Class Cancelled due to a school event.
URL:https://abbotsfordkarate.ca/calendar/karate-class-cancelled/
LOCATION:Godson Elementary\, 33130 Bevan Ave\, Abbotsford\, BC\, V2S 1T6\, Canada
END:VEVENT
BEGIN:VEVENT
DTSTART;TZID=America/Vancouver:20251002T190000
DTEND;TZID=America/Vancouver:20251002T210000
DTSTAMP:20260421T170618
CREATED:20250930T235905Z
LAST-MODIFIED:20250930T235905Z
UID:1102-1759431600-1759438800@abbotsfordkarate.ca
SUMMARY:Classes Start
DESCRIPTION:Karate classes star back up Thursday October 2nd 7-9 pm at Godson Elementary School in the main gym at the back of the school. We look forward to seeing you and helping you get your karate and kobudo skills back after a summer off.
URL:https://abbotsfordkarate.ca/calendar/classes-start/
LOCATION:Godson Elementary\, 33130 Bevan Ave\, Abbotsford\, BC\, V2S 1T6\, Canada
END:VEVENT
BEGIN:VEVENT
DTSTART;TZID=America/Vancouver:20250529T180000
DTEND;TZID=America/Vancouver:20250529T210000
DTSTAMP:20260421T170618
CREATED:20241001T195538Z
LAST-MODIFIED:20241001T195538Z
UID:1056-1748541600-1748552400@abbotsfordkarate.ca
SUMMARY:Last Day of karate classes
DESCRIPTION:Last day of karate classes until October.
URL:https://abbotsfordkarate.ca/calendar/last-day-of-karate-classes/
LOCATION:Godson Elementary\, 33130 Bevan Ave\, Abbotsford\, BC\, V2S 1T6\, Canada
END:VEVENT
BEGIN:VEVENT
DTSTART;TZID=America/Vancouver:20250417T180000
DTEND;TZID=America/Vancouver:20250417T210000
DTSTAMP:20260421T170618
CREATED:20241001T195339Z
LAST-MODIFIED:20241001T195339Z
UID:1054-1744912800-1744923600@abbotsfordkarate.ca
SUMMARY:Class Cancelled
DESCRIPTION:Karate class cancelled due to a Pro D day.
URL:https://abbotsfordkarate.ca/calendar/class-cancelled-2/
LOCATION:Godson Elementary\, 33130 Bevan Ave\, Abbotsford\, BC\, V2S 1T6\, Canada
END:VEVENT
BEGIN:VEVENT
DTSTART;TZID=America/Vancouver:20250417T180000
DTEND;TZID=America/Vancouver:20250417T210000
DTSTAMP:20260421T170618
CREATED:20241001T193232Z
LAST-MODIFIED:20241001T193544Z
UID:1042-1744912800-1744923600@abbotsfordkarate.ca
SUMMARY:Cancellation - Pro D
DESCRIPTION:Karate class is cancelled due to a Professional Development Day.
URL:https://abbotsfordkarate.ca/calendar/cancellation/
LOCATION:Godson Elementary\, 33130 Bevan Ave\, Abbotsford\, BC\, V2S 1T6\, Canada
END:VEVENT
BEGIN:VEVENT
DTSTART;TZID=America/Vancouver:20250220T180000
DTEND;TZID=America/Vancouver:20250220T210000
DTSTAMP:20260421T170618
CREATED:20241001T195115Z
LAST-MODIFIED:20241001T195115Z
UID:1052-1740074400-1740085200@abbotsfordkarate.ca
SUMMARY:Class Cancelled
DESCRIPTION:Karate class cancelled due to a Parent – Teacher conference.
URL:https://abbotsfordkarate.ca/calendar/class-cancelled/
LOCATION:Godson Elementary\, 33130 Bevan Ave\, Abbotsford\, BC\, V2S 1T6\, Canada
END:VEVENT
BEGIN:VEVENT
DTSTART;TZID=America/Vancouver:20250107T180000
DTEND;TZID=America/Vancouver:20250107T210000
DTSTAMP:20260421T170618
CREATED:20241001T194854Z
LAST-MODIFIED:20241001T194854Z
UID:1050-1736272800-1736283600@abbotsfordkarate.ca
SUMMARY:Karate Class restarts for 2025
DESCRIPTION:Karate Class restarts for 2025.
URL:https://abbotsfordkarate.ca/calendar/karate-class-restarts-for-2025/
LOCATION:Godson Elementary\, 33130 Bevan Ave\, Abbotsford\, BC\, V2S 1T6\, Canada
END:VEVENT
BEGIN:VEVENT
DTSTART;TZID=America/Vancouver:20241219T180000
DTEND;TZID=America/Vancouver:20241219T210000
DTSTAMP:20260421T170618
CREATED:20241001T200118Z
LAST-MODIFIED:20241001T200118Z
UID:1064-1734631200-1734642000@abbotsfordkarate.ca
SUMMARY:Class Cancelled
DESCRIPTION:Karate class cancelled for school use.
URL:https://abbotsfordkarate.ca/calendar/class-cancelled-6/
LOCATION:Godson Elementary\, 33130 Bevan Ave\, Abbotsford\, BC\, V2S 1T6\, Canada
END:VEVENT
BEGIN:VEVENT
DTSTART;TZID=America/Vancouver:20241217T180000
DTEND;TZID=America/Vancouver:20241217T210000
DTSTAMP:20260421T170618
CREATED:20241001T200008Z
LAST-MODIFIED:20241001T200008Z
UID:1062-1734458400-1734469200@abbotsfordkarate.ca
SUMMARY:Class Cancelled
DESCRIPTION:Karate class cancelled for school use.
URL:https://abbotsfordkarate.ca/calendar/class-cancelled-5/
LOCATION:Godson Elementary\, 33130 Bevan Ave\, Abbotsford\, BC\, V2S 1T6\, Canada
END:VEVENT
BEGIN:VEVENT
DTSTART;TZID=America/Vancouver:20241212T180000
DTEND;TZID=America/Vancouver:20241212T210000
DTSTAMP:20260421T170618
CREATED:20241001T195847Z
LAST-MODIFIED:20241001T195847Z
UID:1060-1734026400-1734037200@abbotsfordkarate.ca
SUMMARY:Class Cancelled
DESCRIPTION:Karate class cancelled for school use.
URL:https://abbotsfordkarate.ca/calendar/class-cancelled-4/
END:VEVENT
BEGIN:VEVENT
DTSTART;TZID=America/Vancouver:20241210T180000
DTEND;TZID=America/Vancouver:20241210T210000
DTSTAMP:20260421T170618
CREATED:20241001T195743Z
LAST-MODIFIED:20241001T195743Z
UID:1058-1733853600-1733864400@abbotsfordkarate.ca
SUMMARY:Class cancelled
DESCRIPTION:Karate class cancelled for school use.
URL:https://abbotsfordkarate.ca/calendar/class-cancelled-3/
LOCATION:Godson Elementary\, 33130 Bevan Ave\, Abbotsford\, BC\, V2S 1T6\, Canada
END:VEVENT
BEGIN:VEVENT
DTSTART;TZID=America/Vancouver:20241205T180000
DTEND;TZID=America/Vancouver:20241205T210000
DTSTAMP:20260421T170618
CREATED:20241001T194610Z
LAST-MODIFIED:20241001T194610Z
UID:1048-1733421600-1733432400@abbotsfordkarate.ca
SUMMARY:Last Class before Christmas
DESCRIPTION:Last class before Christmas break.
URL:https://abbotsfordkarate.ca/calendar/last-class-before-christmas/
END:VEVENT
BEGIN:VEVENT
DTSTART;TZID=America/Vancouver:20241024T180000
DTEND;TZID=America/Vancouver:20241024T210000
DTSTAMP:20260421T170618
CREATED:20241001T194209Z
LAST-MODIFIED:20241001T194209Z
UID:1046-1729792800-1729803600@abbotsfordkarate.ca
SUMMARY:Cancellation
DESCRIPTION:Karate class cancelled due to a Parent – Teacher interview night.
URL:https://abbotsfordkarate.ca/calendar/cancellation-2/
END:VEVENT
BEGIN:VEVENT
DTSTART;TZID=America/Vancouver:20241001T180000
DTEND;TZID=America/Vancouver:20241001T210000
DTSTAMP:20260421T170618
CREATED:20240918T173242Z
LAST-MODIFIED:20240918T173527Z
UID:1036-1727805600-1727816400@abbotsfordkarate.ca
SUMMARY:Karate Classes Start Tuesday October 1\, 2024
DESCRIPTION:Karate classes start Tuesday Oct 1\, 2024 at Godson Elementary School; 6-7 pm kobudo; 7-8 Kid’s Class; 7-9 Teen and Adult karate class. \nWe’re looking forward to seeing everyone again after a great Summer break. For those of you who took the summer off from your training\, it’s time to get back in shape and hone your karate skills. There’s lots of exciting upcoming events: \nKobudo seminars and grading with Tamayose Sensei from Okinawa: Sept 27-29- Courtney on Vancouver Island;  October 11-13 in Hope \n2024 Wild West Martial Arts Camp Nov 2/3 in Chilliwack at the Coast Chilliwack Hotel \nhttps://www.facebook.com/events/937923344797660/?paipv=0&eav=Afa2pyDFaZfxjOwK_vzWom8V_M7aQe-T-ydNE4cZHU3Yd0kFQo_q_oYPrPG6eizVjtM&_rdr \n  \nCanada Open Karate Championship 2024 \nhttps://cdn.sportdata.org/d75cace8-ebd5-489c-89a0-64a872a04cae/
URL:https://abbotsfordkarate.ca/calendar/karate-classes-start-tuesday-october-1-2024/
LOCATION:Godson Elementary\, 33130 Bevan Ave\, Abbotsford\, BC\, V2S 1T6\, Canada
END:VEVENT
BEGIN:VEVENT
DTSTART;VALUE=DATE:20240318
DTEND;VALUE=DATE:20240330
DTSTAMP:20260421T170618
CREATED:20240305T220527Z
LAST-MODIFIED:20240305T220527Z
UID:1017-1710720000-1711756799@abbotsfordkarate.ca
SUMMARY:Spring Break 2024
DESCRIPTION:Classes will be cancelled for Spring Break March 18-29.
URL:https://abbotsfordkarate.ca/calendar/spring-break-2024/
END:VEVENT
BEGIN:VEVENT
DTSTART;TZID=America/Vancouver:20231019T180000
DTEND;TZID=America/Vancouver:20231019T210000
DTSTAMP:20260421T170618
CREATED:20231010T221101Z
LAST-MODIFIED:20231010T221101Z
UID:976-1697738400-1697749200@abbotsfordkarate.ca
SUMMARY:Class Cancelled for School event
DESCRIPTION:
URL:https://abbotsfordkarate.ca/calendar/class-cancelled-for-school-event/
LOCATION:Godson Elementary\, 33130 Bevan Ave\, Abbotsford\, BC\, V2S 1T6\, Canada
END:VEVENT
END:VCALENDAR